BEGIN:VCALENDAR
VERSION:2.0
PRODID:-//York Symphony Orchestra - ECPv6.15.20//NONSGML v1.0//EN
CALSCALE:GREGORIAN
METHOD:PUBLISH
X-ORIGINAL-URL:https://yorksymphony.ca
X-WR-CALDESC:Events for York Symphony Orchestra
REFRESH-INTERVAL;VALUE=DURATION:PT1H
X-Robots-Tag:noindex
X-PUBLISHED-TTL:PT1H
BEGIN:VTIMEZONE
TZID:America/Halifax
BEGIN:DAYLIGHT
TZOFFSETFROM:-0400
TZOFFSETTO:-0300
TZNAME:ADT
DTSTART:20240310T060000
END:DAYLIGHT
BEGIN:STANDARD
TZOFFSETFROM:-0300
TZOFFSETTO:-0400
TZNAME:AST
DTSTART:20241103T050000
END:STANDARD
BEGIN:DAYLIGHT
TZOFFSETFROM:-0400
TZOFFSETTO:-0300
TZNAME:ADT
DTSTART:20250309T060000
END:DAYLIGHT
BEGIN:STANDARD
TZOFFSETFROM:-0300
TZOFFSETTO:-0400
TZNAME:AST
DTSTART:20251102T050000
END:STANDARD
BEGIN:DAYLIGHT
TZOFFSETFROM:-0400
TZOFFSETTO:-0300
TZNAME:ADT
DTSTART:20260308T060000
END:DAYLIGHT
BEGIN:STANDARD
TZOFFSETFROM:-0300
TZOFFSETTO:-0400
TZNAME:AST
DTSTART:20261101T050000
END:STANDARD
END:VTIMEZONE
BEGIN:VEVENT
DTSTART;TZID=America/Halifax:20250531T200000
DTEND;TZID=America/Halifax:20250531T220000
DTSTAMP:20260425T105518
CREATED:20250513T182058Z
LAST-MODIFIED:20250513T182515Z
UID:953-1748721600-1748728800@yorksymphony.ca
SUMMARY:A NIGHT AT THE OPERA
DESCRIPTION:Experience the splendour of voice and orchestra as only opera can express! Join the YSO and our three guest artists (soprano\, tenor and baritone) as we perform operatic orchestral works by Mozart\, Bizet\, Rimsky-Korsakov and Verdi and accompany them in arias by Bizet\, Mozart\, Verdi\, Dvorak and Di Capua.x
URL:https://yorksymphony.ca/event/a-night-at-the-opera/
LOCATION:Trinity Anglican Church\, 79 Victoria Street\, Aurora\, Ontario\, Canada
ATTACH;FMTTYPE=image/jpeg:https://yorksymphony.ca/wp-content/uploads/2025/05/opera2025.jpg
END:VEVENT
END:VCALENDAR