BEGIN:VCALENDAR
VERSION:2.0
PRODID:-//York Symphony Orchestra - ECPv6.15.20//NONSGML v1.0//EN
CALSCALE:GREGORIAN
METHOD:PUBLISH
X-WR-CALNAME:York Symphony Orchestra
X-ORIGINAL-URL:https://yorksymphony.ca
X-WR-CALDESC:Events for York Symphony Orchestra
REFRESH-INTERVAL;VALUE=DURATION:PT1H
X-Robots-Tag:noindex
X-PUBLISHED-TTL:PT1H
BEGIN:VTIMEZONE
TZID:Asia/Karachi
BEGIN:STANDARD
TZOFFSETFROM:+0500
TZOFFSETTO:+0500
TZNAME:PKT
DTSTART:20220101T000000
END:STANDARD
END:VTIMEZONE
BEGIN:VTIMEZONE
TZID:UTC
BEGIN:STANDARD
TZOFFSETFROM:+0000
TZOFFSETTO:+0000
TZNAME:UTC
DTSTART:20220101T000000
END:STANDARD
END:VTIMEZONE
BEGIN:VEVENT
DTSTART;TZID=Asia/Karachi:20230603T200000
DTEND;TZID=Asia/Karachi:20230603T220000
DTSTAMP:20260425T111229
CREATED:20230106T220727Z
LAST-MODIFIED:20230106T220727Z
UID:613-1685822400-1685829600@yorksymphony.ca
SUMMARY:A Guide to the Orchestra
DESCRIPTION:Vivaldi\, Summer from The Four Seasons; Presto \nHandel\, Hornpipe from Water Music Suite No.2 \nMozart\, Symphony No.40 \nSchubert\, Symphony No.9\, Movement I \nDvořák\, Symphony No.7\, Scherzo \nSaint-Saëns\, Swan from Carnival of the Animals \nRespighi \,Ancient Airs and Dances Suite No.1\, Balletto \nRavel\, Bolero
URL:https://yorksymphony.ca/event/a-guide-to-the-orchestra/
LOCATION:Trinity Anglican Church\, 79 Victoria Street\, Aurora\, Ontario\, Canada
ATTACH;FMTTYPE=image/jpeg:https://yorksymphony.ca/wp-content/uploads/2022/09/music.jpg
END:VEVENT
BEGIN:VEVENT
DTSTART;TZID=UTC:20230422T200000
DTEND;TZID=UTC:20230422T220000
DTSTAMP:20260425T111229
CREATED:20230106T223053Z
LAST-MODIFIED:20230106T223053Z
UID:616-1682193600-1682200800@yorksymphony.ca
SUMMARY:Symphonic Dances around the World
DESCRIPTION:Dvořák\, Slavonic Dances Nos. 3\, 7 and 8 \nOffenbach\, Barcarolle \nGrieg\, Norwegian Dance No.2 \nGershwin\, Rhapsody in Blue – Talisa Blackman\, Piano \nBrahms\, Hungarian Dance No.5 \nStrauss\, Blue Danube Waltz \nStrauss\, Thunder and Lightning Polka \nBizet\, Danse Bohéme from Carmen \nEnescu\, Romanian Rhapsody
URL:https://yorksymphony.ca/event/symphonic-dances-around-the-world-2/
LOCATION:Trinity Anglican Church\, 79 Victoria Street\, Aurora\, Ontario\, Canada
ATTACH;FMTTYPE=image/jpeg:https://yorksymphony.ca/wp-content/uploads/2022/09/dances.jpg
END:VEVENT
BEGIN:VEVENT
DTSTART;TZID=Asia/Karachi:20230218T200000
DTEND;TZID=Asia/Karachi:20230218T220000
DTSTAMP:20260425T111229
CREATED:20230106T211653Z
LAST-MODIFIED:20230131T023844Z
UID:604-1676750400-1676757600@yorksymphony.ca
SUMMARY:An Evening at the Opera
DESCRIPTION:At this concert you will hear some of the most passionate music ever composed for the human voice; music that is justly famous for its ability to convey every aspect of human emotion. Come share this memorable performance featuring the greatest overtures and arias\nfrom the world of opera. Experience the splendour of voice and orchestra as only Opera can express. \nJoin the York Symphony and our 4 guest artists (2 Sopranos\, Tenor and Baritone) as we perform operatic orchestral works by\nMozart\, Bizet\, Rossini and Verdi and accompany them in arias by Mozart\, Verdi\, Puccini\, Donizetti\, Gounod\, DiCapua and Offenbach.
URL:https://yorksymphony.ca/event/an-evening-at-the-opera/
LOCATION:Trinity Anglican Church\, 79 Victoria Street\, Aurora\, Ontario\, Canada
END:VEVENT
END:VCALENDAR