BEGIN:VCALENDAR
VERSION:2.0
PRODID:-//York Symphony Orchestra - ECPv6.15.20//NONSGML v1.0//EN
CALSCALE:GREGORIAN
METHOD:PUBLISH
X-ORIGINAL-URL:https://yorksymphony.ca
X-WR-CALDESC:Events for York Symphony Orchestra
REFRESH-INTERVAL;VALUE=DURATION:PT1H
X-Robots-Tag:noindex
X-PUBLISHED-TTL:PT1H
BEGIN:VTIMEZONE
TZID:America/Toronto
BEGIN:DAYLIGHT
TZOFFSETFROM:-0500
TZOFFSETTO:-0400
TZNAME:EDT
DTSTART:20240310T070000
END:DAYLIGHT
BEGIN:STANDARD
TZOFFSETFROM:-0400
TZOFFSETTO:-0500
TZNAME:EST
DTSTART:20241103T060000
END:STANDARD
BEGIN:DAYLIGHT
TZOFFSETFROM:-0500
TZOFFSETTO:-0400
TZNAME:EDT
DTSTART:20250309T070000
END:DAYLIGHT
BEGIN:STANDARD
TZOFFSETFROM:-0400
TZOFFSETTO:-0500
TZNAME:EST
DTSTART:20251102T060000
END:STANDARD
BEGIN:DAYLIGHT
TZOFFSETFROM:-0500
TZOFFSETTO:-0400
TZNAME:EDT
DTSTART:20260308T070000
END:DAYLIGHT
BEGIN:STANDARD
TZOFFSETFROM:-0400
TZOFFSETTO:-0500
TZNAME:EST
DTSTART:20261101T060000
END:STANDARD
BEGIN:DAYLIGHT
TZOFFSETFROM:-0500
TZOFFSETTO:-0400
TZNAME:EDT
DTSTART:20270314T070000
END:DAYLIGHT
BEGIN:STANDARD
TZOFFSETFROM:-0400
TZOFFSETTO:-0500
TZNAME:EST
DTSTART:20271107T060000
END:STANDARD
END:VTIMEZONE
BEGIN:VEVENT
DTSTART;TZID=America/Toronto:20251025T200000
DTEND;TZID=America/Toronto:20251025T220000
DTSTAMP:20260425T134958
CREATED:20251015T152141Z
LAST-MODIFIED:20251015T160843Z
UID:1260-1761422400-1761429600@yorksymphony.ca
SUMMARY:A SYMPHONIC HALLOWEEN
DESCRIPTION:Programme \nRachmaninoff………Piano Concerto #2\, Elly Hung\, Piano\nMussorgsky…………Night on Bald Mountain\nGrieg………………….In the Hall of the Mountain King\nHerrmann……………Theme from the picture “Psycho”\nProkofiev…………….Romeo & Juliet – The Montagues and the Capulets (Dance of the Knights)\nGounod……………….Funeral March of a Marionnette\nBerlioz…………………Symphonie Fantastique – The Procession to the Stake and A Witches’ Sabbath\n 
URL:https://yorksymphony.ca/event/a-symphonic-halloween/
LOCATION:Trinity Anglican Church\, 79 Victoria Street\, Aurora\, Ontario\, Canada
ATTACH;FMTTYPE=image/jpeg:https://yorksymphony.ca/wp-content/uploads/2025/08/symphonic-holloween.jpeg
END:VEVENT
BEGIN:VEVENT
DTSTART;TZID=America/Toronto:20251206T200000
DTEND;TZID=America/Toronto:20251206T220000
DTSTAMP:20260425T134958
CREATED:20251015T152506Z
LAST-MODIFIED:20251015T160324Z
UID:1262-1765051200-1765058400@yorksymphony.ca
SUMMARY:MÁ VLAST (MY FATHERLAND)
DESCRIPTION:Programme \nSmetana…….Má Vlast \n1. Vysehrad (The High Castle)\n2. VItava (The Moldau)\n3. Sárka\n4. From Bohemia’s Woods and Fields\n5. Tábor\n6. Blaníc
URL:https://yorksymphony.ca/event/ma-vlast-my-fatherland/
LOCATION:Trinity Anglican Church\, 79 Victoria Street\, Aurora\, Ontario\, Canada
ATTACH;FMTTYPE=image/jpeg:https://yorksymphony.ca/wp-content/uploads/2025/08/MA-VLAST-MY-FATHERLAND.jpeg
END:VEVENT
BEGIN:VEVENT
DTSTART;TZID=America/Toronto:20251220T150000
DTEND;TZID=America/Toronto:20251220T170000
DTSTAMP:20260425T134958
CREATED:20251015T152721Z
LAST-MODIFIED:20251015T155923Z
UID:1264-1766242800-1766250000@yorksymphony.ca
SUMMARY:CHRISTMAS AT THE SYMPHONY
DESCRIPTION:Programme \nComing soon.
URL:https://yorksymphony.ca/event/christmas-at-the-symphony/
LOCATION:Trinity Anglican Church\, 79 Victoria Street\, Aurora\, Ontario\, Canada
ATTACH;FMTTYPE=image/jpeg:https://yorksymphony.ca/wp-content/uploads/2025/08/christmas-at-the-symphony.jpeg
END:VEVENT
BEGIN:VEVENT
DTSTART;TZID=America/Toronto:20251220T193000
DTEND;TZID=America/Toronto:20251220T213000
DTSTAMP:20260425T134958
CREATED:20251015T152916Z
LAST-MODIFIED:20251015T160002Z
UID:1266-1766259000-1766266200@yorksymphony.ca
SUMMARY:CHRISTMAS AT THE SYMPHONY
DESCRIPTION:Programme \nComing soon
URL:https://yorksymphony.ca/event/christmas-at-the-symphony-2/
LOCATION:Trinity Anglican Church\, 79 Victoria Street\, Aurora\, Ontario\, Canada
ATTACH;FMTTYPE=image/jpeg:https://yorksymphony.ca/wp-content/uploads/2025/08/christmas-at-the-symphony.jpeg
END:VEVENT
BEGIN:VEVENT
DTSTART;TZID=America/Toronto:20260221T200000
DTEND;TZID=America/Toronto:20260221T220000
DTSTAMP:20260425T134958
CREATED:20251015T153147Z
LAST-MODIFIED:20251015T160234Z
UID:1268-1771704000-1771711200@yorksymphony.ca
SUMMARY:A NIGHT AT THE OPERA
DESCRIPTION:Programme \nComing soon.
URL:https://yorksymphony.ca/event/a-night-at-the-opera-2/
LOCATION:Trinity Anglican Church\, 79 Victoria Street\, Aurora\, Ontario\, Canada
ATTACH;FMTTYPE=image/jpeg:https://yorksymphony.ca/wp-content/uploads/2025/08/night-at-the-opera.jpeg
END:VEVENT
BEGIN:VEVENT
DTSTART;TZID=America/Toronto:20260323T120000
DTEND;TZID=America/Toronto:20260323T120000
DTSTAMP:20260425T134958
CREATED:20251128T031709Z
LAST-MODIFIED:20251128T031823Z
UID:1655-1774267200-1774267200@yorksymphony.ca
SUMMARY:YSO Concerto Competition Deadline
DESCRIPTION:Applications close at 11:59 p.m. on March 23\, 2026.
URL:https://yorksymphony.ca/event/yso-concerto-competition-deadline/
ATTACH;FMTTYPE=image/png:https://yorksymphony.ca/wp-content/uploads/2025/08/subscription.png
END:VEVENT
BEGIN:VEVENT
DTSTART;TZID=America/Toronto:20260418T200000
DTEND;TZID=America/Toronto:20260418T220000
DTSTAMP:20260425T134958
CREATED:20251015T154354Z
LAST-MODIFIED:20251015T160150Z
UID:1270-1776542400-1776549600@yorksymphony.ca
SUMMARY:ROMANTIC MASTERS
DESCRIPTION:Programme \nBeethoven……Piano Concerto No. 2\, Naomi Wong\, Piano\nDvorák…….Symphony No. 8
URL:https://yorksymphony.ca/event/romantic-masters/
LOCATION:Trinity Anglican Church\, 79 Victoria Street\, Aurora\, Ontario\, Canada
ATTACH;FMTTYPE=image/png:https://yorksymphony.ca/wp-content/uploads/2025/08/romantic-masters.png
END:VEVENT
BEGIN:VEVENT
DTSTART;TZID=America/Toronto:20260423T120000
DTEND;TZID=America/Toronto:20260423T120000
DTSTAMP:20260425T134958
CREATED:20251128T032227Z
LAST-MODIFIED:20251128T032721Z
UID:1658-1776945600-1776945600@yorksymphony.ca
SUMMARY:YSO Concerto Competition Finalists Notification
DESCRIPTION:Three finalists will be notified by April 23\, 2026.
URL:https://yorksymphony.ca/event/yso-concerto-competition-finalist-notification/
ATTACH;FMTTYPE=image/png:https://yorksymphony.ca/wp-content/uploads/2025/08/subscription.png
END:VEVENT
BEGIN:VEVENT
DTSTART;VALUE=DATE:20260529
DTEND;VALUE=DATE:20260530
DTSTAMP:20260425T134958
CREATED:20251128T032547Z
LAST-MODIFIED:20251128T032547Z
UID:1661-1780012800-1780099199@yorksymphony.ca
SUMMARY:YSO Concerto Competition Finalists Performance
DESCRIPTION:Three finalists will be  invited to perform for the judges in the Toronto area in May or June 2026. \n 
URL:https://yorksymphony.ca/event/yso-concerto-competition-finalists-performance/
ATTACH;FMTTYPE=image/png:https://yorksymphony.ca/wp-content/uploads/2025/08/subscription.png
END:VEVENT
BEGIN:VEVENT
DTSTART;TZID=America/Toronto:20260530T200000
DTEND;TZID=America/Toronto:20260530T220000
DTSTAMP:20260425T134958
CREATED:20251015T154900Z
LAST-MODIFIED:20251015T160110Z
UID:1273-1780171200-1780178400@yorksymphony.ca
SUMMARY:NORDIC SOUNDS
DESCRIPTION:Programme \nGrieg…… Piano Concerto\, Vanessa Yu\, Piano\nSibelius……. Symphony No. 2
URL:https://yorksymphony.ca/event/nordic-sounds/
LOCATION:Trinity Anglican Church\, 79 Victoria Street\, Aurora\, Ontario\, Canada
ATTACH;FMTTYPE=image/jpeg:https://yorksymphony.ca/wp-content/uploads/2025/08/nordic-sounds.jpeg
END:VEVENT
END:VCALENDAR